BEGIN:VCALENDAR
VERSION:2.0
PRODID:-//ChamberMaster//Event Calendar 2.0//EN
METHOD:PUBLISH
X-PUBLISHED-TTL:P1H
REFRESH-INTERVAL:P1H
CALSCALE:GREGORIAN
BEGIN:VTIMEZONE
TZID:America/Phoenix
BEGIN:DAYLIGHT
DTSTART:20070311T020000
TZOFFSETFROM:-0700
TZOFFSETTO:-0700
TZNAME:(UTC-07:00) Arizona
END:DAYLIGHT
BEGIN:STANDARD
DTSTART:20071104T020000
TZOFFSETFROM:-0700
TZOFFSETTO:-0700
TZNAME:(UTC-07:00) Arizona
END:STANDARD
END:VTIMEZONE
BEGIN:VEVENT
DTSTART;TZID=America/Phoenix:20240515T100000
DTEND;TZID=America/Phoenix:20240515T140000
X-MICROSOFT-CDO-ALLDAYEVENT:FALSE
SUMMARY:Evernorth Care Group| Sun City BLOOD DRIVE!
DESCRIPTION:Did you know one in 83 moms needs a blood transfusion after giving birth? Show your support Evernorth Care Group Sun City BLOOD DRIVEWednesday\, May 15\, 2024 10:00 am - 2:00 pm Bloodmobile in Parking Lot~9069 W Thunderbird Rd\, PeoriaTo schedule your lifesaving appointment\, call 1-877-258-4825\, scan the QR Code or visit www.vitalant.org (Blood Drive Code: P2Y158). Questions? Contact Paige Jensen at Paige.Jensen@evernorth.com
X-ALT-DESC;FMTTYPE=text/html:<!DOCTYPE html><html><head><title></title></head><body aria-disabled="false"><p>Did you know one in 83 moms needs a blood transfusion after giving birth? Show your support&nbsp\;</p><p>Evernorth Care Group Sun City BLOOD DRIVE</p><p>Wednesday\, May 15\, 2024 10:00 am - 2:00 pm&nbsp\;</p><p>Bloodmobile in Parking Lot~</p><p><strong fr-original-style="" style="font-weight: 700\;">9069 W Thunderbird Rd\, Peoria</strong></p><p>To schedule your lifesaving appointment\, call 1-877-258-4825\, scan the QR Code or visit www.vitalant.org&nbsp\;</p><p>(Blood Drive Code: P2Y158).&nbsp\;</p><p>Questions? Contact Paige Jensen at Paige.Jensen@evernorth.com</p></body></html>
LOCATION:9069 W Thunderbird Rd Peoria
UID:e.404.983975
SEQUENCE:3
DTSTAMP:20260422T173518Z
URL:https://members.azhcc.com/business-success-webinars/Details/evernorth-care-group-sun-city-blood-drive-1125815?sourceTypeId=Hub
END:VEVENT
END:VCALENDAR
